Workbook

Sheet Revisorerklæring
A1: 2025/26 | B1: Revisorerklæring
A2: 2025
A3: 18.11.2025 | B3: ERKLÆRING OM OPGØRELSE AF AFGIFTSPLIGTIG VINTERSÆD - ISAE 3000
B5: =+_xlfn.CONCAT("DEN UAFHÆNGIGE REVISORS ERKLÆRING VEDRØRENDE AFGIFTSPLIGTIG VINTERSÆD FOR HØSTÅRET ",A1) -> DEN UAFHÆNGIGE REVISORS ERKLÆRING VEDRØRENDE AFGIFTSPLIGTIG VINTERSÆD FOR HØSTÅRET 2025/26
B7: FIRMA _____________________________________________
B9: Til Danske Sortsejere
B10: =+_xlfn.CONCAT("Vi har fået til opgave at afgive erklæring om opgørelsen af afgiftspligtig vintersæd for høståret ",A1," i henhold") -> Vi har fået til opgave at afgive erklæring om opgørelsen af afgiftspligtig vintersæd for høståret 2025/26 i henhold
B11: til vedlagte skemaer og Danske Sortsejeres retningslinjer.
B13: Sorter | D13: Kg | E13: Kr. | F13: Moms, 25 % | G13: Total inkl. Moms
B14: Vinterhvede | D14: =Vinterhvede!F59 -> 0 | E14: =Vinterhvede!G59 -> 0 | F14: =Vinterhvede!G60 -> 0 | G14: =++E14+F14 -> 0
B15: Vinterbyg | D15: =Vinterbyg!F39 -> 0 | E15: =Vinterbyg!G39 -> 0 | F15: =Vinterbyg!G40 -> 0 | G15: =++E15+F15 -> 0
B16: Vinterrug | D16: =Rug!F27 -> 0 | E16: =Rug!G27 -> 0 | F16: =Rug!G28 -> 0 | G16: =++E16+F16 -> 0
B17: Vintertricale | D17: =Triticale!F17 -> 0 | E17: =Triticale!G17 -> 0 | F17: =Triticale!G18 -> 0 | G17: =++E17+F17 -> 0
B18: Vinterært | D18: =Vinterært!F19 -> 0 | E18: =Vinterært!G19 -> 0 | F18: =Vinterært!G20 -> 0 | G18: =++E18+F18 -> 0
B19: Vinterspelthvede | D19: =Vinterspelthvede!F20 -> 0 | E19: =Vinterspelthvede!G20 -> 0 | F19: =Vinterspelthvede!G21 -> 0 | G19: =++E19+F19 -> 0
B20: Vinterhavre | D20: =Vinterhavre!F19 -> 0 | E20: =Vinterhavre!G19 -> 0 | F20: =Vinterhavre!G20 -> 0 | G20: =++E20+F20 -> 0
B21: Vinterraps | D21: =Vinterraps!F20 -> 0 | E21: =Vinterraps!G20 -> 0 | F21: =Vinterraps!G21 -> 0 | G21: =++E21+F21 -> 0
B22: Sortsblandinger | D22: =Sortsblandinger!F152 -> 0 | E22: =Sortsblandinger!G152 -> 0 | F22: =Sortsblandinger!G153 -> 0 | G22: =++E22+F22 -> 0
B23: Samlet licensafgift inklusiv moms | D23: =SUM(D14:D22) -> 0 | E23: =SUM(E14:E22) -> 0 | F23: =SUM(F14:F22) -> 0 | G23: =SUM(G14:G22) -> 0
B25: Opgørelsen i skemaet udviser en samlet licensafgift på _____________________ kr. incl. moms for
B26: beskyttede sorter vedrørende de i den forløbne sæson i virksomheden producerede og udleverede kvanta
B27: for egen regning og ________________ kg. vedrørende de af virksomheden producerede og udleverede
B28: kvanta for fremmed regning og/eller lønforarbejdet, for hvilke der ikke er afregnet licensafgift i henhold til
B29: særskilt opgørelse, hvoraf fremgår hvem arbejdet er udført for.
B31: Vores konklusion i erklæringen udtrykkes med høj grad af sikkerhed.
B32: Vores erklæring er udelukkende udarbejdet til brug for firma __________________________________ og
B33: Danske Sortsejere og kan ikke anvendes til andet formål.
B35: Ledelsens ansvar
B36: Ledelsen har ansvaret for udarbejdelsen af opgørelsen i overensstemmelse med Danske
B37: Sortsejeres retningslinjer.
B39: Revisors ansvar
... B61: Konklusion
B62: =+_xlfn.CONCAT("Det er vores opfattelse på baggrund af det udførte arbejde, at opgørelsen for høståret ", A1," i alle") -> Det er vores opfattelse på baggrund af det udførte arbejde, at opgørelsen for høståret 2025/26 i alle
B63: væsentlige henseender er opgjort i overensstemmelse med vilkårene for benyttelse af beskyttede sorter.
B65: _______________________, den 2018 | D65: =A2 -> 2025
B67: Revisionsfirma:
B68: ___________________________________________________
B69: Statsautoriseret/registreret revisors navn og underskrift

Sheet Vinterhvede
B1: Senest opdateret den 02-10-2025
B2: Danske Sortsejere
B3: Danneskiold-Samsøes Allé 9 | F3: Opgørelsen skal være Danske Sortsejere
B4: 1434 København K | F4: =+_xlfn.CONCAT("i hænde senest den ", Revisorerklæring!A3,".") -> i hænde senest den 18.11.2025.
B8: =+_xlfn.CONCAT(" Opgørelse over salg af afgiftspligtig vintersæd i efteråret ",Revisorerklæring!A2,".", " Høstår ",Revisorerklæring!A1) -> Opgørelse over salg af afgiftspligtig vintersæd i efteråret 2025. Høstår 2025/26
B9: CVR.NR | C9: Sort | D9: pris | E9: kontonr. | F9: kg | G9: kroner
B10: Hvede pr. 100 kg.
A11: {=_xlfn.IFS(B11=Forædler!$A$1,Forædler!$B$1,B11=Forædler!$A$2,Forædler!$B$2,B11=Forædler!$A$3,Forædler!$B$3,B11=Forædler!$A$4,Forædler!$B$4,B11=Forædler!$A$5,Forædler!$B$5,B11=Forædler!$A$6,Forædler!$B$6,B11=Forædler!$A$7,Forædler!$B$7,B11=Forædler!$A$8,Forædler!$B$8,B11=Forædler!$A$9,Forædler!$B$9,B11=Forædler!$A$10,Forædler!$B$10)} -> Nordic seed | B11: 2722 9379 | C11: Allison | D11: 60 | E11: 10200202 | G11: =SUM(F11*D11/100) -> 0
A12: {=_xlfn.IFS(B12=Forædler!$A$1,Forædler!$B$1,B12=Forædler!$A$2,Forædler!$B$2,B12=Forædler!$A$3,Forædler!$B$3,B12=Forædler!$A$4,Forædler!$B$4,B12=Forædler!$A$5,Forædler!$B$5,B12=Forædler!$A$6,Forædler!$B$6,B12=Forædler!$A$7,Forædler!$B$7,B12=Forædler!$A$8,Forædler!$B$8,B12=Forædler!$A$9,Forædler!$B$9,B12=Forædler!$A$10,Forædler!$B$10)} -> Hornsyld Købmandsgaard | B12: 4552 0811 | C12: Asgard | D12: 140 | E12: 40203202 | G12: =SUM(F12*D12/100) -> 0
A13: {=_xlfn.IFS(#REF!=Forædler!$A$1,Forædler!$B$1,#REF!=Forædler!$A$2,Forædler!$B$2,#REF!=Forædler!$A$3,Forædler!$B$3,#REF!=Forædler!$A$4,Forædler!$B$4,#REF!=Forædler!$A$5,Forædler!$B$5,#REF!=Forædler!$A$6,Forædler!$B$6,#REF!=Forædler!$A$7,Forædler!$B$7,#REF!=Forædler!$A$8,Forædler!$B$8,#REF!=Forædler!$A$9,Forædler!$B$9,#REF!=Forædler!$A$10,Forædler!$B$10)} -> #REF! | B13: 4552 0811 | C13: Asory | D13: 64 | E13: 40205202 | G13: =SUM(F13*D13/100) -> 0
A14: {=_xlfn.IFS(B13=Forædler!$A$1,Forædler!$B$1,B13=Forædler!$A$2,Forædler!$B$2,B13=Forædler!$A$3,Forædler!$B$3,B13=Forædler!$A$4,Forædler!$B$4,B13=Forædler!$A$5,Forædler!$B$5,B13=Forædler!$A$6,Forædler!$B$6,B13=Forædler!$A$7,Forædler!$B$7,B13=Forædler!$A$8,Forædler!$B$8,B13=Forædler!$A$9,Forædler!$B$9,B13=Forædler!$A$10,Forædler!$B$10)} -> Hornsyld Købmandsgaard | B14: 1479 7246 | C14: Bohr | D14: 69 | E14: 20207202 | G14: =SUM(F14*D14/100) -> 0
A15: {=_xlfn.IFS(B14=Forædler!$A$1,Forædler!$B$1,B14=Forædler!$A$2,Forædler!$B$2,B14=Forædler!$A$3,Forædler!$B$3,B14=Forædler!$A$4,Forædler!$B$4,B14=Forædler!$A$5,Forædler!$B$5,B14=Forædler!$A$6,Forædler!$B$6,B14=Forædler!$A$7,Forædler!$B$7,B14=Forædler!$A$8,Forædler!$B$8,B14=Forædler!$A$9,Forædler!$B$9,B14=Forædler!$A$10,Forædler!$B$10)} -> Sejet | B15: 1479 7246 | C15: Bright | D15: 69 | E15: 20205202 | G15: =SUM(F15*D15/100) -> 0
A16: {=_xlfn.IFS(B15=Forædler!$A$1,Forædler!$B$1,B15=Forædler!$A$2,Forædler!$B$2,B15=Forædler!$A$3,Forædler!$B$3,B15=Forædler!$A$4,Forædler!$B$4,B15=Forædler!$A$5,Forædler!$B$5,B15=Forædler!$A$6,Forædler!$B$6,B15=Forædler!$A$7,Forædler!$B$7,B15=Forædler!$A$8,Forædler!$B$8,B15=Forædler!$A$9,Forædler!$B$9,B15=Forædler!$A$10,Forædler!$B$10)} -> Sejet | B16: 3541 1399 | C16: Champion | D16: 69 | E16: 25200202 | G16: =SUM(F16*D16/100) -> 0
A17: {=_xlfn.IFS(#REF!=Forædler!$A$1,Forædler!$B$1,#REF!=Forædler!$A$2,Forædler!$B$2,#REF!=Forædler!$A$3,Forædler!$B$3,#REF!=Forædler!$A$4,Forædler!$B$4,#REF!=Forædler!$A$5,Forædler!$B$5,#REF!=Forædler!$A$6,Forædler!$B$6,#REF!=Forædler!$A$7,Forædler!$B$7,#REF!=Forædler!$A$8,Forædler!$B$8,#REF!=Forædler!$A$9,Forædler!$B$9,#REF!=Forædler!$A$10,Forædler!$B$10)} -> #REF! | B17: 3541 1399 | C17: Debian | D17: 64 | E17: 25201202 | G17: =SUM(F17*D17/100) -> 0
A18: {=_xlfn.IFS(B17=Forædler!$A$1,Forædler!$B$1,B17=Forædler!$A$2,Forædler!$B$2,B17=Forædler!$A$3,Forædler!$B$3,B17=Forædler!$A$4,Forædler!$B$4,B17=Forædler!$A$5,Forædler!$B$5,B17=Forædler!$A$6,Forædler!$B$6,B17=Forædler!$A$7,Forædler!$B$7,B17=Forædler!$A$8,Forædler!$B$8,B17=Forædler!$A$9,Forædler!$B$9,B17=Forædler!$A$10,Forædler!$B$10)} -> DSV | B18: 4552 0811 | C18: Effendi | D18: 56 | E18: 40200202 | G18: =SUM(F18*D18/100) -> 0
A19: {=_xlfn.IFS(B18=Forædler!$A$1,Forædler!$B$1,B18=Forædler!$A$2,Forædler!$B$2,B18=Forædler!$A$3,Forædler!$B$3,B18=Forædler!$A$4,Forædler!$B$4,B18=Forædler!$A$5,Forædler!$B$5,B18=Forædler!$A$6,Forædler!$B$6,B18=Forædler!$A$7,Forædler!$B$7,B18=Forædler!$A$8,Forædler!$B$8,B18=Forædler!$A$9,Forædler!$B$9,B18=Forædler!$A$10,Forædler!$B$10)} -> Hornsyld Købmandsgaard | B19: 3541 1399 | C19: Exsal | D19: 65 | E19: 25202202 | G19: =SUM(F19*D19/100) -> 0
A20: {=_xlfn.IFS(#REF!=Forædler!$A$1,Forædler!$B$1,#REF!=Forædler!$A$2,Forædler!$B$2,#REF!=Forædler!$A$3,Forædler!$B$3,#REF!=Forædler!$A$4,Forædler!$B$4,#REF!=Forædler!$A$5,Forædler!$B$5,#REF!=Forædler!$A$6,Forædler!$B$6,#REF!=Forædler!$A$7,Forædler!$B$7,#REF!=Forædler!$A$8,Forædler!$B$8,#REF!=Forædler!$A$9,Forædler!$B$9,#REF!=Forædler!$A$10,Forædler!$B$10)} -> #REF! | B20: 4552 0811 | C20: Festival | D20: 55 | E20: 40201202 | G20: =SUM(F20*D20/100) -> 0
A21: {=_xlfn.IFS(B19=Forædler!$A$1,Forædler!$B$1,B19=Forædler!$A$2,Forædler!$B$2,B19=Forædler!$A$3,Forædler!$B$3,B19=Forædler!$A$4,Forædler!$B$4,B19=Forædler!$A$5,Forædler!$B$5,B19=Forædler!$A$6,Forædler!$B$6,B19=Forædler!$A$7,Forædler!$B$7,B19=Forædler!$A$8,Forædler!$B$8,B19=Forædler!$A$9,Forædler!$B$9,B19=Forædler!$A$10,Forædler!$B$10)} -> DSV | B21: 2722 9379 | C21: Fritop | D21: 60 | E21: 10201202 | G21: =SUM(F21*D21/100) -> 0
A22: {=_xlfn.IFS(B20=Forædler!$A$1,Forædler!$B$1,B20=Forædler!$A$2,Forædler!$B$2,B20=Forædler!$A$3,Forædler!$B$3,B20=Forædler!$A$4,Forædler!$B$4,B20=Forædler!$A$5,Forædler!$B$5,B20=Forædler!$A$6,Forædler!$B$6,B20=Forædler!$A$7,Forædler!$B$7,B20=Forædler!$A$8,Forædler!$B$8,B20=Forædler!$A$9,Forædler!$B$9,B20=Forædler!$A$10,Forædler!$B$10)} -> Hornsyld Købmandsgaard | B22: 2057 5778 | C22: Graham | D22: 65 | E22: 55200202 | G22: =SUM(F22*D22/100) -> 0
A23: {=_xlfn.IFS(B22=Forædler!$A$1,Forædler!$B$1,B22=Forædler!$A$2,Forædler!$B$2,B22=Forædler!$A$3,Forædler!$B$3,B22=Forædler!$A$4,Forædler!$B$4,B22=Forædler!$A$5,Forædler!$B$5,B22=Forædler!$A$6,Forædler!$B$6,B22=Forædler!$A$7,Forædler!$B$7,B22=Forædler!$A$8,Forædler!$B$8,B22=Forædler!$A$9,Forædler!$B$9,B22=Forædler!$A$10,Forædler!$B$10)} -> Syngenta | B23: 1479 7246 | C23: Guinness | D23: 69 | E23: 20206202 | G23: =SUM(F23*D23/100) -> 0
A24: {=_xlfn.IFS(B23=Forædler!$A$1,Forædler!$B$1,B23=Forædler!$A$2,Forædler!$B$2,B23=Forædler!$A$3,Forædler!$B$3,B23=Forædler!$A$4,Forædler!$B$4,B23=Forædler!$A$5,Forædler!$B$5,B23=Forædler!$A$6,Forædler!$B$6,B23=Forædler!$A$7,Forædler!$B$7,B23=Forædler!$A$8,Forædler!$B$8,B23=Forædler!$A$9,Forædler!$B$9,B23=Forædler!$A$10,Forædler!$B$10)} -> Sejet | B24: 1479 7246 | C24: Heerup | D24: 67 | E24: 20201202 | G24: =SUM(F24*D24/100) -> 0
A25: {=_xlfn.IFS(B24=Forædler!$A$1,Forædler!$B$1,B24=Forædler!$A$2,Forædler!$B$2,B24=Forædler!$A$3,Forædler!$B$3,B24=Forædler!$A$4,Forædler!$B$4,B24=Forædler!$A$5,Forædler!$B$5,B24=Forædler!$A$6,Forædler!$B$6,B24=Forædler!$A$7,Forædler!$B$7,B24=Forædler!$A$8,Forædler!$B$8,B24=Forædler!$A$9,Forædler!$B$9,B24=Forædler!$A$10,Forædler!$B$10)} -> Sejet | B25: 2963 5196 | C25: Heroldo | D25: 140 | E25: 45200202 | G25: =SUM(F25*D25/100) -> 0
A26: {=_xlfn.IFS(B25=Forædler!$A$1,Forædler!$B$1,B25=Forædler!$A$2,Forædler!$B$2,B25=Forædler!$A$3,Forædler!$B$3,B25=Forædler!$A$4,Forædler!$B$4,B25=Forædler!$A$5,Forædler!$B$5,B25=Forædler!$A$6,Forædler!$B$6,B25=Forædler!$A$7,Forædler!$B$7,B25=Forædler!$A$8,Forædler!$B$8,B25=Forædler!$A$9,Forædler!$B$9,B25=Forædler!$A$10,Forædler!$B$10)} -> Ragt | B26: 2722 9379 | C26: Informer | D26: 56 | E26: 10202202 | G26: =SUM(F26*D26/100) -> 0
A27: {=_xlfn.IFS(B26=Forædler!$A$1,Forædler!$B$1,B26=Forædler!$A$2,Forædler!$B$2,B26=Forædler!$A$3,Forædler!$B$3,B26=Forædler!$A$4,Forædler!$B$4,B26=Forædler!$A$5,Forædler!$B$5,B26=Forædler!$A$6,Forædler!$B$6,B26=Forædler!$A$7,Forædler!$B$7,B26=Forædler!$A$8,Forædler!$B$8,B26=Forædler!$A$9,Forædler!$B$9,B26=Forædler!$A$10,Forædler!$B$10)} -> Nordic seed | B27: 4552 0811 | C27: JB Asano | D27: 54 | E27: 40202202 | G27: =SUM(F27*D27/100) -> 0
A28: {=_xlfn.IFS(B27=Forædler!$A$1,Forædler!$B$1,B27=Forædler!$A$2,Forædler!$B$2,B27=Forædler!$A$3,Forædler!$B$3,B27=Forædler!$A$4,Forædler!$B$4,B27=Forædler!$A$5,Forædler!$B$5,B27=Forædler!$A$6,Forædler!$B$6,B27=Forædler!$A$7,Forædler!$B$7,B27=Forædler!$A$8,Forædler!$B$8,B27=Forædler!$A$9,Forædler!$B$9,B27=Forædler!$A$10,Forædler!$B$10)} -> Hornsyld Købmandsgaard | B28: 3071 0495 | C28: Julius | D28: 55 | E28: 30200202 | G28: =SUM(F28*D28/100) -> 0
A29: {=_xlfn.IFS(B28=Forædler!$A$1,Forædler!$B$1,B28=Forædler!$A$2,Forædler!$B$2,B28=Forædler!$A$3,Forædler!$B$3,B28=Forædler!$A$4,Forædler!$B$4,B28=Forædler!$A$5,Forædler!$B$5,B28=Forædler!$A$6,Forædler!$B$6,B28=Forædler!$A$7,Forædler!$B$7,B28=Forædler!$A$8,Forædler!$B$8,B28=Forædler!$A$9,Forædler!$B$9,B28=Forædler!$A$10,Forædler!$B$10)} -> KWS | B29: 4552 0811 | C29: Kask | D29: 63 | E29: 40204202 | G29: =SUM(F29*D29/100) -> 0
A30: {=_xlfn.IFS(B29=Forædler!$A$1,Forædler!$B$1,B29=Forædler!$A$2,Forædler!$B$2,B29=Forædler!$A$3,Forædler!$B$3,B29=Forædler!$A$4,Forædler!$B$4,B29=Forædler!$A$5,Forædler!$B$5,B29=Forædler!$A$6,Forædler!$B$6,B29=Forædler!$A$7,Forædler!$B$7,B29=Forædler!$A$8,Forædler!$B$8,B29=Forædler!$A$9,Forædler!$B$9,B29=Forædler!$A$10,Forædler!$B$10)} -> Hornsyld Købmandsgaard | B30: 2722 9379 | C30: Kubik | D30: 68 | E30: 10204202 | G30: =SUM(F30*D30/100) -> 0
A31: {=_xlfn.IFS(#REF!=Forædler!$A$1,Forædler!$B$1,#REF!=Forædler!$A$2,Forædler!$B$2,#REF!=Forædler!$A$3,Forædler!$B$3,#REF!=Forædler!$A$4,Forædler!$B$4,#REF!=Forædler!$A$5,Forædler!$B$5,#REF!=Forædler!$A$6,Forædler!$B$6,#REF!=Forædler!$A$7,Forædler!$B$7,#REF!=Forædler!$A$8,Forædler!$B$8,#REF!=Forædler!$A$9,Forædler!$B$9,#REF!=Forædler!$A$10,Forædler!$B$10)} -> #REF! | B31: 1479 7246 | C31: Kvium | D31: 69 | E31: 20203202 | G31: =SUM(F31*D31/100) -> 0
A32: {=_xlfn.IFS(B30=Forædler!$A$1,Forædler!$B$1,B30=Forædler!$A$2,Forædler!$B$2,B30=Forædler!$A$3,Forædler!$B$3,B30=Forædler!$A$4,Forædler!$B$4,B30=Forædler!$A$5,Forædler!$B$5,B30=Forædler!$A$6,Forædler!$B$6,B30=Forædler!$A$7,Forædler!$B$7,B30=Forædler!$A$8,Forædler!$B$8,B30=Forædler!$A$9,Forædler!$B$9,B30=Forædler!$A$10,Forædler!$B$10)} -> Nordic seed | B32: 3071 0495 | C32: KWS Brise | D32: 70 | E32: 30208202 | G32: =SUM(F32*D32/100) -> 0
A33: {=_xlfn.IFS(B31=Forædler!$A$1,Forædler!$B$1,B31=Forædler!$A$2,Forædler!$B$2,B31=Forædler!$A$3,Forædler!$B$3,B31=Forædler!$A$4,Forædler!$B$4,B31=Forædler!$A$5,Forædler!$B$5,B31=Forædler!$A$6,Forædler!$B$6,B31=Forædler!$A$7,Forædler!$B$7,B31=Forædler!$A$8,Forædler!$B$8,B31=Forædler!$A$9,Forædler!$B$9,B31=Forædler!$A$10,Forædler!$B$10)} -> Sejet | B33: 3071 0495 | C33: KWS Danicum | D33: 65 | E33: 30206202 | G33: =SUM(F33*D33/100) -> 0
A34: {=_xlfn.IFS(#REF!=Forædler!$A$1,Forædler!$B$1,#REF!=Forædler!$A$2,Forædler!$B$2,#REF!=Forædler!$A$3,Forædler!$B$3,#REF!=Forædler!$A$4,Forædler!$B$4,#REF!=Forædler!$A$5,Forædler!$B$5,#REF!=Forædler!$A$6,Forædler!$B$6,#REF!=Forædler!$A$7,Forædler!$B$7,#REF!=Forædler!$A$8,Forædler!$B$8,#REF!=Forædler!$A$9,Forædler!$B$9,#REF!=Forædler!$A$10,Forædler!$B$10)} -> #REF! | B34: 3071 0495 | C34: KWS Dawsum | D34: 60 | E34: 30201202 | G34: =SUM(F34*D34/100) -> 0
A35: {=_xlfn.IFS(B32=Forædler!$A$1,Forædler!$B$1,B32=Forædler!$A$2,Forædler!$B$2,B32=Forædler!$A$3,Forædler!$B$3,B32=Forædler!$A$4,Forædler!$B$4,B32=Forædler!$A$5,Forædler!$B$5,B32=Forædler!$A$6,Forædler!$B$6,B32=Forædler!$A$7,Forædler!$B$7,B32=Forædler!$A$8,Forædler!$B$8,B32=Forædler!$A$9,Forædler!$B$9,B32=Forædler!$A$10,Forædler!$B$10)} -> KWS | B35: 3071 0495 | C35: KWS Emerick | D35: 57 | E35: 30202202 | G35: =SUM(F35*D35/100) -> 0
A36: {=_xlfn.IFS(B33=Forædler!$A$1,Forædler!$B$1,B33=Forædler!$A$2,Forædler!$B$2,B33=Forædler!$A$3,Forædler!$B$3,B33=Forædler!$A$4,Forædler!$B$4,B33=Forædler!$A$5,Forædler!$B$5,B33=Forædler!$A$6,Forædler!$B$6,B33=Forædler!$A$7,Forædler!$B$7,B33=Forædler!$A$8,Forædler!$B$8,B33=Forædler!$A$9,Forædler!$B$9,B33=Forædler!$A$10,Forædler!$B$10)} -> KWS | B36: 3071 0495 | C36: KWS Extase | D36: 57 | E36: 30203202 | G36: =SUM(F36*D36/100) -> 0
A37: {=_xlfn.IFS(B34=Forædler!$A$1,Forædler!$B$1,B34=Forædler!$A$2,Forædler!$B$2,B34=Forædler!$A$3,Forædler!$B$3,B34=Forædler!$A$4,Forædler!$B$4,B34=Forædler!$A$5,Forædler!$B$5,B34=Forædler!$A$6,Forædler!$B$6,B34=Forædler!$A$7,Forædler!$B$7,B34=Forædler!$A$8,Forædler!$B$8,B34=Forædler!$A$9,Forædler!$B$9,B34=Forædler!$A$10,Forædler!$B$10)} -> KWS | B37: 3071 0495 | C37: KWS Lili | D37: 55 | E37: 30204202 | G37: =SUM(F37*D37/100) -> 0
A38: {=_xlfn.IFS(B35=Forædler!$A$1,Forædler!$B$1,B35=Forædler!$A$2,Forædler!$B$2,B35=Forædler!$A$3,Forædler!$B$3,B35=Forædler!$A$4,Forædler!$B$4,B35=Forædler!$A$5,Forædler!$B$5,B35=Forædler!$A$6,Forædler!$B$6,B35=Forædler!$A$7,Forædler!$B$7,B35=Forædler!$A$8,Forædler!$B$8,B35=Forædler!$A$9,Forædler!$B$9,B35=Forædler!$A$10,Forædler!$B$10)} -> KWS | B38: 3071 0495 | C38: KWS Montana | D38: 55 | E38: 30205202 | G38: =SUM(F38*D38/100) -> 0
A39: {=_xlfn.IFS(#REF!=Forædler!$A$1,Forædler!$B$1,#REF!=Forædler!$A$2,Forædler!$B$2,#REF!=Forædler!$A$3,Forædler!$B$3,#REF!=Forædler!$A$4,Forædler!$B$4,#REF!=Forædler!$A$5,Forædler!$B$5,#REF!=Forædler!$A$6,Forædler!$B$6,#REF!=Forædler!$A$7,Forædler!$B$7,#REF!=Forædler!$A$8,Forædler!$B$8,#REF!=Forædler!$A$9,Forædler!$B$9,#REF!=Forædler!$A$10,Forædler!$B$10)} -> #REF! | B39: 3071 0495 | C39: KWS Scope | D39: 67 | E39: 30207202 | G39: =SUM(F39*D39/100) -> 0
B40: 1479 7246 | C40: Lehmann | D40: 69 | E40: 20208202 | G40: =SUM(F40*D40/100) -> 0
A41: {=_xlfn.IFS(B36=Forædler!$A$1,Forædler!$B$1,B36=Forædler!$A$2,Forædler!$B$2,B36=Forædler!$A$3,Forædler!$B$3,B36=Forædler!$A$4,Forædler!$B$4,B36=Forædler!$A$5,Forædler!$B$5,B36=Forædler!$A$6,Forædler!$B$6,B36=Forædler!$A$7,Forædler!$B$7,B36=Forædler!$A$8,Forædler!$B$8,B36=Forædler!$A$9,Forædler!$B$9,B36=Forædler!$A$10,Forædler!$B$10)} -> KWS | B41: 1479 7246 | C41: LG Initial | D41: 69 | E41: 20202202 | G41: =SUM(F41*D41/100) -> 0
A42: {=_xlfn.IFS(B37=Forædler!$A$1,Forædler!$B$1,B37=Forædler!$A$2,Forædler!$B$2,B37=Forædler!$A$3,Forædler!$B$3,B37=Forædler!$A$4,Forædler!$B$4,B37=Forædler!$A$5,Forædler!$B$5,B37=Forædler!$A$6,Forædler!$B$6,B37=Forædler!$A$7,Forædler!$B$7,B37=Forædler!$A$8,Forædler!$B$8,B37=Forædler!$A$9,Forædler!$B$9,B37=Forædler!$A$10,Forædler!$B$10)} -> KWS | B42: 1479 7246 | C42: LG Kermit | D42: 69 | E42: 20210202 | G42: =SUM(F42*D42/100) -> 0
A43: {=_xlfn.IFS(#REF!=Forædler!$A$1,Forædler!$B$1,#REF!=Forædler!$A$2,Forædler!$B$2,#REF!=Forædler!$A$3,Forædler!$B$3,#REF!=Forædler!$A$4,Forædler!$B$4,#REF!=Forædler!$A$5,Forædler!$B$5,#REF!=Forædler!$A$6,Forædler!$B$6,#REF!=Forædler!$A$7,Forædler!$B$7,#REF!=Forædler!$A$8,Forædler!$B$8,#REF!=Forædler!$A$9,Forædler!$B$9,#REF!=Forædler!$A$10,Forædler!$B$10)} -> #REF! | B43: 2722 9379 | C43: NOS Bullseye | D43: 69 | E43: 10211202 | G43: =SUM(F43*D43/100) -> 0
...

Sheet Vinterbyg
B1: Senest opdateret den 02-10-2025
B2: Danske Sortsejere
B3: =+[1]Vinterhvede!B3 -> Danneskiold-Samsøes Allé 9 | F3: Opgørelsen skal være Danske Sortsejere
B4: =+[1]Vinterhvede!B4 -> 1434 København K | F4: =+_xlfn.CONCAT("i hænde senest den ", Revisorerklæring!A3,".") -> i hænde senest den 18.11.2025.
B8: =+_xlfn.CONCAT(" Opgørelse over salg af afgiftspligtig vintersæd i efteråret ",Revisorerklæring!A2,".", " Høstår ",Revisorerklæring!A1) -> Opgørelse over salg af afgiftspligtig vintersæd i efteråret 2025. Høstår 2025/26
B9: CVR.NR | C9: Sort | D9: pris | E9: kontonr. | F9: kg | G9: kroner
B10: Byg pr. 100 kg.
B11: 1479 7246 | C11: Alaska | D11: 68 | E11: 20251202 | G11: =SUM(F11*D11/100) -> 0
A12: {=_xlfn.IFS(B12=Forædler!$A$1,Forædler!$B$1,B12=Forædler!$A$2,Forædler!$B$2,B12=Forædler!$A$3,Forædler!$B$3,B12=Forædler!$A$4,Forædler!$B$4,B12=Forædler!$A$5,Forædler!$B$5,B12=Forædler!$A$6,Forædler!$B$6,B12=Forædler!$A$7,Forædler!$B$7,B12=Forædler!$A$8,Forædler!$B$8,B12=Forædler!$A$9,Forædler!$B$9,B12=Forædler!$A$10,Forædler!$B$10)} -> Nordic seed | B12: 2722 9379 | C12: Annemiek | D12: 69 | E12: 10257202 | G12: =SUM(F12*D12/100) -> 0
A13: {=_xlfn.IFS(B13=Forædler!$A$1,Forædler!$B$1,B13=Forædler!$A$2,Forædler!$B$2,B13=Forædler!$A$3,Forædler!$B$3,B13=Forædler!$A$4,Forædler!$B$4,B13=Forædler!$A$5,Forædler!$B$5,B13=Forædler!$A$6,Forædler!$B$6,B13=Forædler!$A$7,Forædler!$B$7,B13=Forædler!$A$8,Forædler!$B$8,B13=Forædler!$A$9,Forædler!$B$9,B13=Forædler!$A$10,Forædler!$B$10)} -> Nordic seed | B13: 2722 9379 | C13: Bordeaux | D13: 60 | E13: 10250202 | G13: =SUM(F13*D13/100) -> 0
A14: {=_xlfn.IFS(B14=Forædler!$A$1,Forædler!$B$1,B14=Forædler!$A$2,Forædler!$B$2,B14=Forædler!$A$3,Forædler!$B$3,B14=Forædler!$A$4,Forædler!$B$4,B14=Forædler!$A$5,Forædler!$B$5,B14=Forædler!$A$6,Forædler!$B$6,B14=Forædler!$A$7,Forædler!$B$7,B14=Forædler!$A$8,Forædler!$B$8,B14=Forædler!$A$9,Forædler!$B$9,B14=Forædler!$A$10,Forædler!$B$10)} -> Sejet | B14: 1479 7246 | C14: Cleopatra | D14: 68 | E14: 20250202 | G14: =SUM(F14*D14/100) -> 0
A15: {=_xlfn.IFS(B15=Forædler!$A$1,Forædler!$B$1,B15=Forædler!$A$2,Forædler!$B$2,B15=Forædler!$A$3,Forædler!$B$3,B15=Forædler!$A$4,Forædler!$B$4,B15=Forædler!$A$5,Forædler!$B$5,B15=Forædler!$A$6,Forædler!$B$6,B15=Forædler!$A$7,Forædler!$B$7,B15=Forædler!$A$8,Forædler!$B$8,B15=Forædler!$A$9,Forædler!$B$9,B15=Forædler!$A$10,Forædler!$B$10)} -> Nordic seed | B15: 2722 9379 | C15: Comeback | D15: 55 | E15: 10251202 | G15: =SUM(F15*D15/100) -> 0
A16: {=_xlfn.IFS(#REF!=Forædler!$A$1,Forædler!$B$1,#REF!=Forædler!$A$2,Forædler!$B$2,#REF!=Forædler!$A$3,Forædler!$B$3,#REF!=Forædler!$A$4,Forædler!$B$4,#REF!=Forædler!$A$5,Forædler!$B$5,#REF!=Forædler!$A$6,Forædler!$B$6,#REF!=Forædler!$A$7,Forædler!$B$7,#REF!=Forædler!$A$8,Forædler!$B$8,#REF!=Forædler!$A$9,Forædler!$B$9,#REF!=Forædler!$A$10,Forædler!$B$10)} -> #REF! | B16: 1479 7246 | C16: Dexter | D16: 68 | E16: 20253202 | G16: =SUM(F16*D16/100) -> 0
A17: {=_xlfn.IFS(#REF!=Forædler!$A$1,Forædler!$B$1,#REF!=Forædler!$A$2,Forædler!$B$2,#REF!=Forædler!$A$3,Forædler!$B$3,#REF!=Forædler!$A$4,Forædler!$B$4,#REF!=Forædler!$A$5,Forædler!$B$5,#REF!=Forædler!$A$6,Forædler!$B$6,#REF!=Forædler!$A$7,Forædler!$B$7,#REF!=Forædler!$A$8,Forædler!$B$8,#REF!=Forædler!$A$9,Forædler!$B$9,#REF!=Forædler!$A$10,Forædler!$B$10)} -> #REF! | B17: 4552 0811 | C17: Julia | D17: 57 | E17: 40251202 | G17: =SUM(F17*D17/100) -> 0
A18: {=_xlfn.IFS(#REF!=Forædler!$A$1,Forædler!$B$1,#REF!=Forædler!$A$2,Forædler!$B$2,#REF!=Forædler!$A$3,Forædler!$B$3,#REF!=Forædler!$A$4,Forædler!$B$4,#REF!=Forædler!$A$5,Forædler!$B$5,#REF!=Forædler!$A$6,Forædler!$B$6,#REF!=Forædler!$A$7,Forædler!$B$7,#REF!=Forædler!$A$8,Forædler!$B$8,#REF!=Forædler!$A$9,Forædler!$B$9,#REF!=Forædler!$A$10,Forædler!$B$10)} -> #REF! | B18: 3071 0495 | C18: KWS Agilis | D18: 79 | E18: 30250202 | G18: =SUM(F18*D18/100) -> 0
A19: {=_xlfn.IFS(#REF!=Forædler!$A$1,Forædler!$B$1,#REF!=Forædler!$A$2,Forædler!$B$2,#REF!=Forædler!$A$3,Forædler!$B$3,#REF!=Forædler!$A$4,Forædler!$B$4,#REF!=Forædler!$A$5,Forædler!$B$5,#REF!=Forædler!$A$6,Forædler!$B$6,#REF!=Forædler!$A$7,Forædler!$B$7,#REF!=Forædler!$A$8,Forædler!$B$8,#REF!=Forædler!$A$9,Forædler!$B$9,#REF!=Forædler!$A$10,Forædler!$B$10)} -> #REF! | B19: 3071 0495 | C19: KWS Andromedis | D19: 70 | E19: 30251202 | G19: =SUM(F19*D19/100) -> 0
A20: {=_xlfn.IFS(#REF!=Forædler!$A$1,Forædler!$B$1,#REF!=Forædler!$A$2,Forædler!$B$2,#REF!=Forædler!$A$3,Forædler!$B$3,#REF!=Forædler!$A$4,Forædler!$B$4,#REF!=Forædler!$A$5,Forædler!$B$5,#REF!=Forædler!$A$6,Forædler!$B$6,#REF!=Forædler!$A$7,Forædler!$B$7,#REF!=Forædler!$A$8,Forædler!$B$8,#REF!=Forædler!$A$9,Forædler!$B$9,#REF!=Forædler!$A$10,Forædler!$B$10)} -> #REF! | B20: 3071 0495 | C20: KWS Kosmos | D20: 57 | E20: 30252202 | G20: =SUM(F20*D20/100) -> 0
A21: {=_xlfn.IFS(#REF!=Forædler!$A$1,Forædler!$B$1,#REF!=Forædler!$A$2,Forædler!$B$2,#REF!=Forædler!$A$3,Forædler!$B$3,#REF!=Forædler!$A$4,Forædler!$B$4,#REF!=Forædler!$A$5,Forædler!$B$5,#REF!=Forædler!$A$6,Forædler!$B$6,#REF!=Forædler!$A$7,Forædler!$B$7,#REF!=Forædler!$A$8,Forædler!$B$8,#REF!=Forædler!$A$9,Forædler!$B$9,#REF!=Forædler!$A$10,Forædler!$B$10)} -> #REF! | B21: 3071 0495 | C21: KWS Luddis | D21: 67 | E21: 30253202 | G21: =SUM(F21*D21/100) -> 0
A22: {=_xlfn.IFS(B17=Forædler!$A$1,Forædler!$B$1,B17=Forædler!$A$2,Forædler!$B$2,B17=Forædler!$A$3,Forædler!$B$3,B17=Forædler!$A$4,Forædler!$B$4,B17=Forædler!$A$5,Forædler!$B$5,B17=Forædler!$A$6,Forædler!$B$6,B17=Forædler!$A$7,Forædler!$B$7,B17=Forædler!$A$8,Forædler!$B$8,B17=Forædler!$A$9,Forædler!$B$9,B17=Forædler!$A$10,Forædler!$B$10)} -> Hornsyld Købmandsgaard | B22: 3071 0495 | C22: KWS Meridian | D22: 57 | E22: 30254202 | G22: =SUM(F22*D22/100) -> 0
A23: {=_xlfn.IFS(B18=Forædler!$A$1,Forædler!$B$1,B18=Forædler!$A$2,Forædler!$B$2,B18=Forædler!$A$3,Forædler!$B$3,B18=Forædler!$A$4,Forædler!$B$4,B18=Forædler!$A$5,Forædler!$B$5,B18=Forædler!$A$6,Forædler!$B$6,B18=Forædler!$A$7,Forædler!$B$7,B18=Forædler!$A$8,Forædler!$B$8,B18=Forædler!$A$9,Forædler!$B$9,B18=Forædler!$A$10,Forædler!$B$10)} -> KWS | B23: 3071 0495 | C23: KWS Tardis | D23: 58 | E23: 30255202 | G23: =SUM(F23*D23/100) -> 0
A24: {=_xlfn.IFS(#REF!=Forædler!$A$1,Forædler!$B$1,#REF!=Forædler!$A$2,Forædler!$B$2,#REF!=Forædler!$A$3,Forædler!$B$3,#REF!=Forædler!$A$4,Forædler!$B$4,#REF!=Forædler!$A$5,Forædler!$B$5,#REF!=Forædler!$A$6,Forædler!$B$6,#REF!=Forædler!$A$7,Forædler!$B$7,#REF!=Forædler!$A$8,Forædler!$B$8,#REF!=Forædler!$A$9,Forædler!$B$9,#REF!=Forædler!$A$10,Forædler!$B$10)} -> #REF! | B24: 3071 0495 | C24: KWS Wallace | D24: 57 | E24: 30256202 | G24: =SUM(F24*D24/100) -> 0
A25: {=_xlfn.IFS(#REF!=Forædler!$A$1,Forædler!$B$1,#REF!=Forædler!$A$2,Forædler!$B$2,#REF!=Forædler!$A$3,Forædler!$B$3,#REF!=Forædler!$A$4,Forædler!$B$4,#REF!=Forædler!$A$5,Forædler!$B$5,#REF!=Forædler!$A$6,Forædler!$B$6,#REF!=Forædler!$A$7,Forædler!$B$7,#REF!=Forædler!$A$8,Forædler!$B$8,#REF!=Forædler!$A$9,Forædler!$B$9,#REF!=Forædler!$A$10,Forædler!$B$10)} -> #REF! | B25: 1479 7246 | C25: LG Capitol | D25: 69 | E25: 20252202 | G25: =SUM(F25*D25/100) -> 0
A26: {=_xlfn.IFS(#REF!=Forædler!$A$1,Forædler!$B$1,#REF!=Forædler!$A$2,Forædler!$B$2,#REF!=Forædler!$A$3,Forædler!$B$3,#REF!=Forædler!$A$4,Forædler!$B$4,#REF!=Forædler!$A$5,Forædler!$B$5,#REF!=Forædler!$A$6,Forædler!$B$6,#REF!=Forædler!$A$7,Forædler!$B$7,#REF!=Forædler!$A$8,Forædler!$B$8,#REF!=Forædler!$A$9,Forædler!$B$9,#REF!=Forædler!$A$10,Forædler!$B$10)} -> #REF! | B26: 2722 9379 | C26: LG Globetrotter | D26: 55 | E26: 10252202 | G26: =SUM(F26*D26/100) -> 0
A27: {=_xlfn.IFS(B19=Forædler!$A$1,Forædler!$B$1,B19=Forædler!$A$2,Forædler!$B$2,B19=Forædler!$A$3,Forædler!$B$3,B19=Forædler!$A$4,Forædler!$B$4,B19=Forædler!$A$5,Forædler!$B$5,B19=Forædler!$A$6,Forædler!$B$6,B19=Forædler!$A$7,Forædler!$B$7,B19=Forædler!$A$8,Forædler!$B$8,B19=Forædler!$A$9,Forædler!$B$9,B19=Forædler!$A$10,Forædler!$B$10)} -> KWS | B27: 2722 9379 | C27: Molly | D27: 67 | E27: 10255202 | G27: =SUM(F27*D27/100) -> 0
B28: 2722 9379 | C28: NOS Contador | D28: 67 | E28: 10254202 | G28: =SUM(F28*D28/100) -> 0
B29: 2722 9379 | C29: NOS Valverde | D29: 69 | E29: 10256202 | G29: =SUM(F29*D29/100) -> 0
B30: 2722 9379 | C30: Orcade | D30: 67 | E30: 10253202 | G30: =SUM(F30*D30/100) -> 0
B31: 2722 9379 | C31: Organa | D31: 69 | E31: 10258202 | G31: =SUM(F31*D31/100) -> 0
B32: 4552 0811 | C32: Paquita | D32: 65 | E32: 40253202 | G32: =SUM(F32*D32/100) -> 0
B33: 1479 7246 | C33: Proctor | D33: 68 | E33: 20254202 | G33: =SUM(F33*D33/100) -> 0
B34: 4552 0811 | C34: Randi | D34: 65 | E34: 40252202 | G34: =SUM(F34*D34/100) -> 0
B35: 3541 1399 | C35: Sensation | D35: 57 | E35: 25250202 | G35: =SUM(F35*D35/100) -> 0
B36: 3544 0488 | C36: SU Midnight | D36: 59 | E36: 60250202 | G36: =SUM(F36*D36/100) -> 0
B37: 4552 0811 | C37: Valerie | D37: 56 | E37: 40250202 | G37: =SUM(F37*D37/100) -> 0
A38: {=_xlfn.IFS(B20=Forædler!$A$1,Forædler!$B$1,B20=Forædler!$A$2,Forædler!$B$2,B20=Forædler!$A$3,Forædler!$B$3,B20=Forædler!$A$4,Forædler!$B$4,B20=Forædler!$A$5,Forædler!$B$5,B20=Forædler!$A$6,Forædler!$B$6,B20=Forædler!$A$7,Forædler!$B$7,B20=Forædler!$A$8,Forædler!$B$8,B20=Forædler!$A$9,Forædler!$B$9,B20=Forædler!$A$10,Forædler!$B$10)} -> KWS | G38: =SUM(F38*D38/100) -> 0
A39: {=_xlfn.IFS(B21=Forædler!$A$1,Forædler!$B$1,B21=Forædler!$A$2,Forædler!$B$2,B21=Forædler!$A$3,Forædler!$B$3,B21=Forædler!$A$4,Forædler!$B$4,B21=Forædler!$A$5,Forædler!$B$5,B21=Forædler!$A$6,Forædler!$B$6,B21=Forædler!$A$7,Forædler!$B$7,B21=Forædler!$A$8,Forædler!$B$8,B21=Forædler!$A$9,Forædler!$B$9,B21=Forædler!$A$10,Forædler!$B$10)} -> KWS | B39: I alt side 4 | F39: =SUM(F11:F38) -> 0 | G39: =SUM(G11:G38) -> 0
A40: {=_xlfn.IFS(#REF!=Forædler!$A$1,Forædler!$B$1,#REF!=Forædler!$A$2,Forædler!$B$2,#REF!=Forædler!$A$3,Forædler!$B$3,#REF!=Forædler!$A$4,Forædler!$B$4,#REF!=Forædler!$A$5,Forædler!$B$5,#REF!=Forædler!$A$6,Forædler!$B$6,#REF!=Forædler!$A$7,Forædler!$B$7,#REF!=Forædler!$A$8,Forædler!$B$8,#REF!=Forædler!$A$9,Forædler!$B$9,#REF!=Forædler!$A$10,Forædler!$B$10)} -> #REF! | B40: moms af licensafgifter | E40: 310 | F40: 0.25 | G40: =SUM(G39*F40) -> 0
A41: {=_xlfn.IFS(#REF!=Forædler!$A$1,Forædler!$B$1,#REF!=Forædler!$A$2,Forædler!$B$2,#REF!=Forædler!$A$3,Forædler!$B$3,#REF!=Forædler!$A$4,Forædler!$B$4,#REF!=Forædler!$A$5,Forædler!$B$5,#REF!=Forædler!$A$6,Forædler!$B$6,#REF!=Forædler!$A$7,Forædler!$B$7,#REF!=Forædler!$A$8,Forædler!$B$8,#REF!=Forædler!$A$9,Forædler!$B$9,#REF!=Forædler!$A$10,Forædler!$B$10)} -> #REF! | B41: I alt side 4 incl. moms | G41: =SUM(G39+G40) -> 0
A42: {=_xlfn.IFS(B23=Forædler!$A$1,Forædler!$B$1,B23=Forædler!$A$2,Forædler!$B$2,B23=Forædler!$A$3,Forædler!$B$3,B23=Forædler!$A$4,Forædler!$B$4,B23=Forædler!$A$5,Forædler!$B$5,B23=Forædler!$A$6,Forædler!$B$6,B23=Forædler!$A$7,Forædler!$B$7,B23=Forædler!$A$8,Forædler!$B$8,B23=Forædler!$A$9,Forædler!$B$9,B23=Forædler!$A$10,Forædler!$B$10)} -> KWS
A43: {=_xlfn.IFS(B25=Forædler!$A$1,Forædler!$B$1,B25=Forædler!$A$2,Forædler!$B$2,B25=Forædler!$A$3,Forædler!$B$3,B25=Forædler!$A$4,Forædler!$B$4,B25=Forædler!$A$5,Forædler!$B$5,B25=Forædler!$A$6,Forædler!$B$6,B25=Forædler!$A$7,Forædler!$B$7,B25=Forædler!$A$8,Forædler!$B$8,B25=Forædler!$A$9,Forædler!$B$9,B25=Forædler!$A$10,Forædler!$B$10)} -> Sejet | B43: Beløbet er overført til reg. nr. 3001 konto nr. 0012176910
...

Sheet Rug
B1: Senest opdateret den 02-10-2025
B2: Danske Sortsejere
B3: =+[1]Vinterhvede!B3 -> Danneskiold-Samsøes Allé 9 | F3: Opgørelsen skal være Danske Sortsejere
B4: =+[1]Vinterhvede!B4 -> 1434 København K | F4: =+_xlfn.CONCAT("i hænde senest den ", Revisorerklæring!A3,".") -> i hænde senest den 18.11.2025.
B8: =+_xlfn.CONCAT(" Opgørelse over salg af afgiftspligtig vintersæd i efteråret ",Revisorerklæring!A2,".", " Høstår ",Revisorerklæring!A1) -> Opgørelse over salg af afgiftspligtig vintersæd i efteråret 2025. Høstår 2025/26
B9: CVR. NR. | C9: Sort | D9: pris | E9: kontonr. | F9: kg | G9: kroner
C10: Rug pr. 100 kg.
B11: 4552 0811 | C11: Dankowskie Kanter | D11: 55 | E11: 40351202 | G11: =SUM(F11*D11/100) -> 0
A12: {=_xlfn.IFS(B13=Forædler!$A$1,Forædler!$B$1,B13=Forædler!$A$2,Forædler!$B$2,B13=Forædler!$A$3,Forædler!$B$3,B13=Forædler!$A$4,Forædler!$B$4,B13=Forædler!$A$5,Forædler!$B$5,B13=Forædler!$A$6,Forædler!$B$6,B13=Forædler!$A$7,Forædler!$B$7,B13=Forædler!$A$8,Forædler!$B$8,B13=Forædler!$A$9,Forædler!$B$9,B13=Forædler!$A$10,Forædler!$B$10)} -> Saaten Union | B12: 4552 0811 | C12: Dankowskie Rubin | D12: 52 | E12: 40350202 | G12: =SUM(F12*D12/100) -> 0
A13: {=_xlfn.IFS(B14=Forædler!$A$1,Forædler!$B$1,B14=Forædler!$A$2,Forædler!$B$2,B14=Forædler!$A$3,Forædler!$B$3,B14=Forædler!$A$4,Forædler!$B$4,B14=Forædler!$A$5,Forædler!$B$5,B14=Forædler!$A$6,Forædler!$B$6,B14=Forædler!$A$7,Forædler!$B$7,B14=Forædler!$A$8,Forædler!$B$8,B14=Forædler!$A$9,Forædler!$B$9,B14=Forædler!$A$10,Forædler!$B$10)} -> Nordic seed | B13: 3544 0488 | C13: Dukato | D13: 50 | E13: 60350202 | G13: =SUM(F13*D13/100) -> 0
A14: {=_xlfn.IFS(#REF!=Forædler!$A$1,Forædler!$B$1,#REF!=Forædler!$A$2,Forædler!$B$2,#REF!=Forædler!$A$3,Forædler!$B$3,#REF!=Forædler!$A$4,Forædler!$B$4,#REF!=Forædler!$A$5,Forædler!$B$5,#REF!=Forædler!$A$6,Forædler!$B$6,#REF!=Forædler!$A$7,Forædler!$B$7,#REF!=Forædler!$A$8,Forædler!$B$8,#REF!=Forædler!$A$9,Forædler!$B$9,#REF!=Forædler!$A$10,Forædler!$B$10)} -> #REF! | B14: 2722 9379 | C14: Inspector | D14: 50 | E14: 10350202 | G14: =SUM(F14*D14/100) -> 0
B15: 3544 0488 | C15: SU Bebop | D15: 54 | E15: 60351202 | G15: =SUM(F15*D15/100) -> 0
G16: =SUM(F16*D16/100) -> 0
G17: =SUM(F17*D17/100) -> 0
G18: =SUM(F18*D18/100) -> 0
G19: =SUM(F19*D19/100) -> 0
G20: =SUM(F20*D20/100) -> 0
G21: =SUM(F21*D21/100) -> 0
G22: =SUM(F22*D22/100) -> 0
G23: =SUM(F23*D23/100) -> 0
G24: =SUM(F24*D24/100) -> 0
G25: =SUM(F25*D25/100) -> 0
G26: =SUM(F26*D26/100) -> 0
B27: I alt side 5 | F27: =SUM(F11:F26) -> 0 | G27: =SUM(G11:G26) -> 0
B28: moms af licensafgifter | E28: 310 | F28: 0.25 | G28: =SUM(G27*F28) -> 0
B29: I alt side 5 incl. moms | G29: =SUM(G27+G28) -> 0
B32: Beløbet er overført til reg. nr. 3001 konto nr. 0012176910
B34: Dato:
B35: Firma:
B37: Stempel og forpligtende underskrift

Sheet Triticale
B1: Senest opdateret den 02-10-2025
B2: Danske Sortsejere
B3: =+[1]Vinterhvede!B3 -> Danneskiold-Samsøes Allé 9 | F3: Opgørelsen skal være Danske Sortsejere
B4: =+[1]Vinterhvede!B4 -> 1434 København K | F4: =+_xlfn.CONCAT("i hænde senest den ", Revisorerklæring!A3,".") -> i hænde senest den 18.11.2025.
B8: =+_xlfn.CONCAT(" Opgørelse over salg af afgiftspligtig vintersæd i efteråret ",Revisorerklæring!A2,".", " Høstår ",Revisorerklæring!A1) -> Opgørelse over salg af afgiftspligtig vintersæd i efteråret 2025. Høstår 2025/26
B9: CVR. NR. | C9: Sort | D9: pris | E9: kontonr. | F9: kg | G9: kroner
B10: Triticale pr. 100 kg.
A11: {=_xlfn.IFS(B11=Forædler!$A$1,Forædler!$B$1,B11=Forædler!$A$2,Forædler!$B$2,B11=Forædler!$A$3,Forædler!$B$3,B11=Forædler!$A$4,Forædler!$B$4,B11=Forædler!$A$5,Forædler!$B$5,B11=Forædler!$A$6,Forædler!$B$6,B11=Forædler!$A$7,Forædler!$B$7,B11=Forædler!$A$8,Forædler!$B$8,B11=Forædler!$A$9,Forædler!$B$9,B11=Forædler!$A$10,Forædler!$B$10)} -> Hornsyld Købmandsgaard | B11: 4552 0811 | C11: Brehat | D11: 55 | E11: 40400202 | G11: =SUM(F11*D11/100) -> 0
A12: {=_xlfn.IFS(B12=Forædler!$A$1,Forædler!$B$1,B12=Forædler!$A$2,Forædler!$B$2,B12=Forædler!$A$3,Forædler!$B$3,B12=Forædler!$A$4,Forædler!$B$4,B12=Forædler!$A$5,Forædler!$B$5,B12=Forædler!$A$6,Forædler!$B$6,B12=Forædler!$A$7,Forædler!$B$7,B12=Forædler!$A$8,Forædler!$B$8,B12=Forædler!$A$9,Forædler!$B$9,B12=Forædler!$A$10,Forædler!$B$10)} -> Hornsyld Købmandsgaard | B12: 4552 0811 | C12: Cappricia | D12: 55 | E12: 40401202 | G12: =SUM(F12*D12/100) -> 0
A13: {=_xlfn.IFS(B13=Forædler!$A$1,Forædler!$B$1,B13=Forædler!$A$2,Forædler!$B$2,B13=Forædler!$A$3,Forædler!$B$3,B13=Forædler!$A$4,Forædler!$B$4,B13=Forædler!$A$5,Forædler!$B$5,B13=Forædler!$A$6,Forædler!$B$6,B13=Forædler!$A$7,Forædler!$B$7,B13=Forædler!$A$8,Forædler!$B$8,B13=Forædler!$A$9,Forædler!$B$9,B13=Forædler!$A$10,Forædler!$B$10)} -> Hornsyld Købmandsgaard | B13: 4552 0811 | C13: Lumaco | D13: 65 | E13: 40403202 | G13: =SUM(F13*D13/100) -> 0
B14: 4552 0811 | C14: Travoris | D14: 55 | E14: 40402202 | G14: =SUM(F14*D14/100) -> 0
A15: {=_xlfn.IFS(B15=Forædler!$A$1,Forædler!$B$1,B15=Forædler!$A$2,Forædler!$B$2,B15=Forædler!$A$3,Forædler!$B$3,B15=Forædler!$A$4,Forædler!$B$4,B15=Forædler!$A$5,Forædler!$B$5,B15=Forædler!$A$6,Forædler!$B$6,B15=Forædler!$A$7,Forædler!$B$7,B15=Forædler!$A$8,Forædler!$B$8,B15=Forædler!$A$9,Forædler!$B$9,B15=Forædler!$A$10,Forædler!$B$10)} -> Sejet | B15: 1479 7246 | C15: Trias | D15: 69 | E15: 20449202 | G15: =SUM(F15*D15/100) -> 0
A16: {=_xlfn.IFS(#REF!=Forædler!$A$1,Forædler!$B$1,#REF!=Forædler!$A$2,Forædler!$B$2,#REF!=Forædler!$A$3,Forædler!$B$3,#REF!=Forædler!$A$4,Forædler!$B$4,#REF!=Forædler!$A$5,Forædler!$B$5,#REF!=Forædler!$A$6,Forædler!$B$6,#REF!=Forædler!$A$7,Forædler!$B$7,#REF!=Forædler!$A$8,Forædler!$B$8,#REF!=Forædler!$A$9,Forædler!$B$9,#REF!=Forædler!$A$10,Forædler!$B$10)} -> #REF! | G16: =SUM(F16*D16/100) -> 0
A17: {=_xlfn.IFS(#REF!=Forædler!$A$1,Forædler!$B$1,#REF!=Forædler!$A$2,Forædler!$B$2,#REF!=Forædler!$A$3,Forædler!$B$3,#REF!=Forædler!$A$4,Forædler!$B$4,#REF!=Forædler!$A$5,Forædler!$B$5,#REF!=Forædler!$A$6,Forædler!$B$6,#REF!=Forædler!$A$7,Forædler!$B$7,#REF!=Forædler!$A$8,Forædler!$B$8,#REF!=Forædler!$A$9,Forædler!$B$9,#REF!=Forædler!$A$10,Forædler!$B$10)} -> #REF! | B17: I alt side 6 | F17: =SUM(F11:F16) -> 0 | G17: =SUM(G11:H16) -> 0
B18: moms af licensafgifter | E18: 310 | F18: 0.25 | G18: =SUM(G17*F18) -> 0
B19: I alt side 6 incl. moms | G19: =SUM(G17+G18) -> 0
B21: Beløbet er overført til reg.nr. 3001 konto nr. 0012176910
B23: Dato:
B24: Firma:
B26: Stempel og forpligtende underskrift

Sheet Vinterært
B1: Senest opdateret den 02-10-2025
B2: Danske Sortsejere
B3: =+[1]Vinterhvede!B3 -> Danneskiold-Samsøes Allé 9 | F3: Opgørelsen skal være Danske Sortsejere
B4: =+[1]Vinterhvede!B4 -> 1434 København K | F4: =+_xlfn.CONCAT("i hænde senest den ", Revisorerklæring!A3,".") -> i hænde senest den 18.11.2025.
B8: =+_xlfn.CONCAT(" Opgørelse over salg af afgiftspligtig vintersæd i efteråret ",Revisorerklæring!A2,".", " Høstår ",Revisorerklæring!A1) -> Opgørelse over salg af afgiftspligtig vintersæd i efteråret 2025. Høstår 2025/26
B9: CVR. NR. | C9: Sort | D9: pris | E9: kontonr. | F9: kg | G9: kroner
B10: Vinterært pr. 100 kg.
B11: 2963 5196 | C11: Lapony | D11: 65 | E11: 45160202 | G11: =SUM(F11*D11/100) -> 0
G12: =SUM(F12*D12/100) -> 0
G13: =SUM(F13*D13/100) -> 0
G14: =SUM(F14*D14/100) -> 0
G15: =SUM(F15*D15/100) -> 0
G16: =SUM(F16*D16/100) -> 0
G17: =SUM(F17*D17/100) -> 0
G18: =SUM(F18*D18/100) -> 0
B19: I alt side 7 | F19: =SUM(F11:F18) -> 0 | G19: =SUM(G11:G18) -> 0
B20: moms af licensafgifter | E20: 310 | F20: 0.25 | G20: =SUM(G19*F20) -> 0
B21: I alt side 7 incl. moms | G21: =SUM(G19+G20) -> 0
B23: Beløbet er overført til reg. nr. 3001 konto nr. 0012176910
B25: Dato:
B26: Firma:
B28: Stempel og forpligtende underskrift

Sheet Vinterspelthvede
B1: Senest opdateret den 02-10-2025
B2: Danske Sortsejere
B3: =+[1]Vinterhvede!B3 -> Danneskiold-Samsøes Allé 9 | F3: Opgørelsen skal være Danske Sortsejere
B4: =+[1]Vinterhvede!B4 -> 1434 København K | F4: =+_xlfn.CONCAT("i hænde senest den ", Revisorerklæring!A3,".") -> i hænde senest den 18.11.2025.
B8: =+_xlfn.CONCAT(" Opgørelse over salg af afgiftspligtig vintersæd i efteråret ",Revisorerklæring!A2,".", " Høstår ",Revisorerklæring!A1) -> Opgørelse over salg af afgiftspligtig vintersæd i efteråret 2025. Høstår 2025/26
B9: CVR. NR. | C9: Sort | D9: pris | E9: kontonr. | F9: kg | G9: kroner
B10: Vinterspelthvede pr. 100 kg.
A11: {=_xlfn.IFS(B11=Forædler!$A$1,Forædler!$B$1,B11=Forædler!$A$2,Forædler!$B$2,B11=Forædler!$A$3,Forædler!$B$3,B11=Forædler!$A$4,Forædler!$B$4,B11=Forædler!$A$5,Forædler!$B$5,B11=Forædler!$A$6,Forædler!$B$6,B11=Forædler!$A$7,Forædler!$B$7,B11=Forædler!$A$8,Forædler!$B$8,B11=Forædler!$A$9,Forædler!$B$9,B11=Forædler!$A$10,Forædler!$B$10)} -> Saaten Union | B11: 3544 0488 | C11: Zollernspelz | D11: 188 | E11: 60300202 | G11: =SUM(F11*D11/100) -> 0
A12: {=_xlfn.IFS(B12=Forædler!$A$1,Forædler!$B$1,B12=Forædler!$A$2,Forædler!$B$2,B12=Forædler!$A$3,Forædler!$B$3,B12=Forædler!$A$4,Forædler!$B$4,B12=Forædler!$A$5,Forædler!$B$5,B12=Forædler!$A$6,Forædler!$B$6,B12=Forædler!$A$7,Forædler!$B$7,B12=Forædler!$A$8,Forædler!$B$8,B12=Forædler!$A$9,Forædler!$B$9,B12=Forædler!$A$10,Forædler!$B$10)} -> Saaten Union | B12: 3544 0488 | C12: Zollernfit | D12: 188 | E12: 60301202 | G12: =SUM(F12*D12/100) -> 0
G13: =SUM(F13*D13/100) -> 0
G14: =SUM(F14*D14/100) -> 0
G15: =SUM(F15*D15/100) -> 0
G16: =SUM(F16*D16/100) -> 0
G17: =SUM(F17*D17/100) -> 0
G18: =SUM(F18*D18/100) -> 0
G19: =SUM(F19*D19/100) -> 0
B20: I alt side 8 | F20: =SUM(F11:F19) -> 0 | G20: =SUM(G11:G19) -> 0
B21: moms af licensafgifter | E21: 310 | F21: 0.25 | G21: =SUM(G20*F21) -> 0
B22: I alt side 8 incl. moms | G22: =SUM(G20+G21) -> 0
B24: Beløbet er overført til reg.nr. 3001 konto nr. 0012176910
B26: Dato:
B27: Firma:
B29: Stempel og forpligtende underskrift

Sheet Vinterhavre
B1: Senest opdateret den 02-10-2025
B2: Danske Sortsejere
B3: =+[1]Vinterhvede!B3 -> Danneskiold-Samsøes Allé 9 | F3: Opgørelsen skal være Danske Sortsejere
B4: =+[1]Vinterhvede!B4 -> 1434 København K | F4: =+_xlfn.CONCAT("i hænde senest den ", Revisorerklæring!A3,".") -> i hænde senest den 18.11.2025.
B8: =+_xlfn.CONCAT(" Opgørelse over salg af afgiftspligtig vintersæd i efteråret ",Revisorerklæring!A2,".", " Høstår ",Revisorerklæring!A1) -> Opgørelse over salg af afgiftspligtig vintersæd i efteråret 2025. Høstår 2025/26
B9: CVR. NR. | C9: Sort | D9: pris | E9: kontonr. | F9: kg | G9: kroner
B10: Vinterhavre pr. 100 kg.
G11: =SUM(F11*D11/100) -> 0
G12: =SUM(F12*D12/100) -> 0
G13: =SUM(F13*D13/100) -> 0
G14: =SUM(F14*D14/100) -> 0
G15: =SUM(F15*D15/100) -> 0
G16: =SUM(F16*D16/100) -> 0
G17: =SUM(F17*D17/100) -> 0
G18: =SUM(F18*D18/100) -> 0
B19: I alt side 9 | F19: =SUM(F11:F18) -> 0 | G19: =SUM(G11:G18) -> 0
B20: moms af licensafgifter | E20: 310 | F20: 0.25 | G20: =SUM(G19*F20) -> 0
B21: I alt side 9 incl. moms | G21: =SUM(G19+G20) -> 0
B23: Beløbet er overført til reg. nr. 3001 konto nr. 0012176910
B25: Dato:
B26: Firma:
B28: Stempel og forpligtende underskrift

Sheet Vinterraps
B1: Senest opdateret den 02-10-2025
B2: Danske Sortsejere
B3: =+[1]Vinterhvede!B3 -> Danneskiold-Samsøes Allé 9 | F3: Opgørelsen skal være Danske Sortsejere
B4: =+[1]Vinterhvede!B4 -> 1434 København K | F4: =+_xlfn.CONCAT("i hænde senest den ", Revisorerklæring!A3,".") -> i hænde senest den 18.11.2025.
B8: =+_xlfn.CONCAT(" Opgørelse over salg af afgiftspligtig vintersæd i efteråret ",Revisorerklæring!A2,".", " Høstår ",Revisorerklæring!A1) -> Opgørelse over salg af afgiftspligtig vintersæd i efteråret 2025. Høstår 2025/26
B9: CVR. NR. | C9: Sort | D9: pris | E9: kontonr. | F9: kg | G9: kroner
B10: Vinterraps pr. 100 kg.
A11: {=_xlfn.IFS(B11=Forædler!$A$1,Forædler!$B$1,B11=Forædler!$A$2,Forædler!$B$2,B11=Forædler!$A$3,Forædler!$B$3,B11=Forædler!$A$4,Forædler!$B$4,B11=Forædler!$A$5,Forædler!$B$5,B11=Forædler!$A$6,Forædler!$B$6,B11=Forædler!$A$7,Forædler!$B$7,B11=Forædler!$A$8,Forædler!$B$8,B11=Forædler!$A$9,Forædler!$B$9,B11=Forædler!$A$10,Forædler!$B$10)} -> Hornsyld Købmandsgaard | B11: 4552 0811 | C11: Anton | D11: 3000 | E11: 40451202 | G11: =SUM(F11*D11/100) -> 0
A12: {=_xlfn.IFS(B12=Forædler!$A$1,Forædler!$B$1,B12=Forædler!$A$2,Forædler!$B$2,B12=Forædler!$A$3,Forædler!$B$3,B12=Forædler!$A$4,Forædler!$B$4,B12=Forædler!$A$5,Forædler!$B$5,B12=Forædler!$A$6,Forædler!$B$6,B12=Forædler!$A$7,Forædler!$B$7,B12=Forædler!$A$8,Forædler!$B$8,B12=Forædler!$A$9,Forædler!$B$9,B12=Forædler!$A$10,Forædler!$B$10)} -> Hornsyld Købmandsgaard | B12: 4552 0811 | C12: Bachus | D12: 4000 | E12: 40452202 | G12: =SUM(F12*D12/100) -> 0
A13: {=_xlfn.IFS(B13=Forædler!$A$1,Forædler!$B$1,B13=Forædler!$A$2,Forædler!$B$2,B13=Forædler!$A$3,Forædler!$B$3,B13=Forædler!$A$4,Forædler!$B$4,B13=Forædler!$A$5,Forædler!$B$5,B13=Forædler!$A$6,Forædler!$B$6,B13=Forædler!$A$7,Forædler!$B$7,B13=Forædler!$A$8,Forædler!$B$8,B13=Forædler!$A$9,Forædler!$B$9,B13=Forædler!$A$10,Forædler!$B$10)} -> #N/A | G13: =SUM(F13*D13/100) -> 0
A14: {=_xlfn.IFS(B14=Forædler!$A$1,Forædler!$B$1,B14=Forædler!$A$2,Forædler!$B$2,B14=Forædler!$A$3,Forædler!$B$3,B14=Forædler!$A$4,Forædler!$B$4,B14=Forædler!$A$5,Forædler!$B$5,B14=Forædler!$A$6,Forædler!$B$6,B14=Forædler!$A$7,Forædler!$B$7,B14=Forædler!$A$8,Forædler!$B$8,B14=Forædler!$A$9,Forædler!$B$9,B14=Forædler!$A$10,Forædler!$B$10)} -> #N/A | G14: =SUM(F14*D14/100) -> 0
A15: {=_xlfn.IFS(B15=Forædler!$A$1,Forædler!$B$1,B15=Forædler!$A$2,Forædler!$B$2,B15=Forædler!$A$3,Forædler!$B$3,B15=Forædler!$A$4,Forædler!$B$4,B15=Forædler!$A$5,Forædler!$B$5,B15=Forædler!$A$6,Forædler!$B$6,B15=Forædler!$A$7,Forædler!$B$7,B15=Forædler!$A$8,Forædler!$B$8,B15=Forædler!$A$9,Forædler!$B$9,B15=Forædler!$A$10,Forædler!$B$10,B15=Forædler!A11,Forædler!B11)} -> #N/A | G15: =SUM(F15*D15/100) -> 0
G16: =SUM(F16*D16/100) -> 0
G17: =SUM(F17*D17/100) -> 0
G18: =SUM(F18*D18/100) -> 0
G19: =SUM(F19*D19/100) -> 0
B20: I alt side 10 | F20: =SUM(F11:F19) -> 0 | G20: =SUM(G11:G19) -> 0
B21: moms af licensafgifter | E21: 310 | F21: 0.25 | G21: =SUM(G20*F21) -> 0
B22: I alt side 10 incl. moms | G22: =SUM(G20+G21) -> 0
B24: Beløbet er overført til reg. nr. 3001 konto nr. 0012176910
B26: Dato:
B27: Firma:
B29: Stempel og forpligtende underskrift

Sheet Sortsblandinger
B1: Senest opdateret den 02-10-2025
B2: Danske Sortsejere
B3: =+[1]Vinterhvede!B3 -> Danneskiold-Samsøes Allé 9 | F3: Opgørelsen skal være Danske Sortsejere
B4: =+[1]Vinterhvede!B4 -> 1434 København K | F4: =+_xlfn.CONCAT("i hænde senest den ", Revisorerklæring!A3,".") -> i hænde senest den 18.11.2025.
B6: =+_xlfn.CONCAT(" Opgørelse over salg af afgiftspligtig vintersæd i efteråret ",Revisorerklæring!A2,".", " Høstår ",Revisorerklæring!A1) -> Opgørelse over salg af afgiftspligtig vintersæd i efteråret 2025. Høstår 2025/26
B7: CVR.NR. | C7: Sort | D7: pris pr. | E7: kontonr. | F7: kg | G7: kroner
D8: 100 kg
C9: Sortsblandinger BYG
C10: Sortsblanding nr. 2041
B11: =_xlfn.XLOOKUP(C11,Vinterbyg!C:C,Vinterbyg!B:B) -> 2722 9379 | C11: Molly | D11: =_xlfn.XLOOKUP(C11,Vinterbyg!C:C,Vinterbyg!D:D) -> 67 | E11: =_xlfn.XLOOKUP(C11,Vinterbyg!C:C,Vinterbyg!E:E) -> 10255202 | G11: =SUM(F11*D11/100) -> 0
B12: =_xlfn.XLOOKUP(C12,Vinterbyg!C:C,Vinterbyg!B:B) -> 2722 9379 | C12: NOS Valverde | D12: =_xlfn.XLOOKUP(C12,Vinterbyg!C:C,Vinterbyg!D:D) -> 69 | E12: =_xlfn.XLOOKUP(C12,Vinterbyg!C:C,Vinterbyg!E:E) -> 10256202 | G12: =SUM(F12*D12/100) -> 0
B13: =_xlfn.XLOOKUP(C13,Vinterbyg!C:C,Vinterbyg!B:B) -> 2722 9379 | C13: Organa | D13: =_xlfn.XLOOKUP(C13,Vinterbyg!C:C,Vinterbyg!D:D) -> 69 | E13: =_xlfn.XLOOKUP(C13,Vinterbyg!C:C,Vinterbyg!E:E) -> 10258202 | G13: =SUM(F13*D13/100) -> 0
C14: Sortsblanding nr. 2042
B15: =_xlfn.XLOOKUP(C15,Vinterbyg!C:C,Vinterbyg!B:B) -> 2722 9379 | C15: Molly | D15: =_xlfn.XLOOKUP(C15,Vinterbyg!C:C,Vinterbyg!D:D) -> 67 | E15: =_xlfn.XLOOKUP(C15,Vinterbyg!C:C,Vinterbyg!E:E) -> 10255202 | G15: =SUM(F15*D15/100) -> 0
B16: =_xlfn.XLOOKUP(C16,Vinterbyg!C:C,Vinterbyg!B:B) -> 2722 9379 | C16: Orcade | D16: =_xlfn.XLOOKUP(C16,Vinterbyg!C:C,Vinterbyg!D:D) -> 67 | E16: =_xlfn.XLOOKUP(C16,Vinterbyg!C:C,Vinterbyg!E:E) -> 10253202 | G16: =SUM(F16*D16/100) -> 0
B17: =_xlfn.XLOOKUP(C17,Vinterbyg!C:C,Vinterbyg!B:B) -> 2722 9379 | C17: Organa | D17: =_xlfn.XLOOKUP(C17,Vinterbyg!C:C,Vinterbyg!D:D) -> 69 | E17: =_xlfn.XLOOKUP(C17,Vinterbyg!C:C,Vinterbyg!E:E) -> 10258202 | G17: =SUM(F17*D17/100) -> 0
C18: Sortsblanding nr. 2043
B19: =_xlfn.XLOOKUP(C19,Vinterbyg!C:C,Vinterbyg!B:B) -> 1479 7246 | C19: Cleopatra | D19: =_xlfn.XLOOKUP(C19,Vinterbyg!C:C,Vinterbyg!D:D) -> 68 | E19: =_xlfn.XLOOKUP(C19,Vinterbyg!C:C,Vinterbyg!E:E) -> 20250202 | G19: =SUM(F19*D19/100) -> 0
B20: =_xlfn.XLOOKUP(C20,Vinterbyg!C:C,Vinterbyg!B:B) -> 1479 7246 | C20: Dexter | D20: =_xlfn.XLOOKUP(C20,Vinterbyg!C:C,Vinterbyg!D:D) -> 68 | E20: =_xlfn.XLOOKUP(C20,Vinterbyg!C:C,Vinterbyg!E:E) -> 20253202 | G20: =SUM(F20*D20/100) -> 0
B21: =_xlfn.XLOOKUP(C21,Vinterbyg!C:C,Vinterbyg!B:B) -> 1479 7246 | C21: LG Capitol | D21: =_xlfn.XLOOKUP(C21,Vinterbyg!C:C,Vinterbyg!D:D) -> 69 | E21: =_xlfn.XLOOKUP(C21,Vinterbyg!C:C,Vinterbyg!E:E) -> 20252202 | G21: =SUM(F21*D21/100) -> 0
C22: Sortsblanding nr. 2044
A23: {=_xlfn.IFS(B23=Forædler!$A$1,Forædler!$B$1,B23=Forædler!$A$2,Forædler!$B$2,B23=Forædler!$A$3,Forædler!$B$3,B23=Forædler!$A$4,Forædler!$B$4,B23=Forædler!$A$5,Forædler!$B$5,B23=Forædler!$A$6,Forædler!$B$6,B23=Forædler!$A$7,Forædler!$B$7,B23=Forædler!$A$8,Forædler!$B$8,B23=Forædler!$A$9,Forædler!$B$9,B23=Forædler!$A$10,Forædler!$B$10)} -> Sejet | B23: =_xlfn.XLOOKUP(C23,Vinterbyg!C:C,Vinterbyg!B:B) -> 1479 7246 | C23: Cleopatra | D23: =_xlfn.XLOOKUP(C23,Vinterbyg!C:C,Vinterbyg!D:D) -> 68 | E23: =_xlfn.XLOOKUP(C23,Vinterbyg!C:C,Vinterbyg!E:E) -> 20250202 | G23: =SUM(F23*D23/100) -> 0
A24: {=_xlfn.IFS(B24=Forædler!$A$1,Forædler!$B$1,B24=Forædler!$A$2,Forædler!$B$2,B24=Forædler!$A$3,Forædler!$B$3,B24=Forædler!$A$4,Forædler!$B$4,B24=Forædler!$A$5,Forædler!$B$5,B24=Forædler!$A$6,Forædler!$B$6,B24=Forædler!$A$7,Forædler!$B$7,B24=Forædler!$A$8,Forædler!$B$8,B24=Forædler!$A$9,Forædler!$B$9,B24=Forædler!$A$10,Forædler!$B$10)} -> Sejet | B24: =_xlfn.XLOOKUP(C24,Vinterbyg!C:C,Vinterbyg!B:B) -> 1479 7246 | C24: Proctor | D24: =_xlfn.XLOOKUP(C24,Vinterbyg!C:C,Vinterbyg!D:D) -> 68 | E24: =_xlfn.XLOOKUP(C24,Vinterbyg!C:C,Vinterbyg!E:E) -> 20254202 | G24: =SUM(F24*D24/100) -> 0
A25: {=_xlfn.IFS(B25=Forædler!$A$1,Forædler!$B$1,B25=Forædler!$A$2,Forædler!$B$2,B25=Forædler!$A$3,Forædler!$B$3,B25=Forædler!$A$4,Forædler!$B$4,B25=Forædler!$A$5,Forædler!$B$5,B25=Forædler!$A$6,Forædler!$B$6,B25=Forædler!$A$7,Forædler!$B$7,B25=Forædler!$A$8,Forædler!$B$8,B25=Forædler!$A$9,Forædler!$B$9,B25=Forædler!$A$10,Forædler!$B$10)} -> Sejet | B25: =_xlfn.XLOOKUP(C25,Vinterbyg!C:C,Vinterbyg!B:B) -> 1479 7246 | C25: LG Capitol | D25: =_xlfn.XLOOKUP(C25,Vinterbyg!C:C,Vinterbyg!D:D) -> 69 | E25: =_xlfn.XLOOKUP(C25,Vinterbyg!C:C,Vinterbyg!E:E) -> 20252202 | G25: =SUM(F25*D25/100) -> 0
C27: Sortsblandinger HVEDE
C28: Sortsblanding nr. 3071
A29: {=_xlfn.IFS(B29=Forædler!$A$1,Forædler!$B$1,B29=Forædler!$A$2,Forædler!$B$2,B29=Forædler!$A$3,Forædler!$B$3,B29=Forædler!$A$4,Forædler!$B$4,B29=Forædler!$A$5,Forædler!$B$5,B29=Forædler!$A$6,Forædler!$B$6,B29=Forædler!$A$7,Forædler!$B$7,B29=Forædler!$A$8,Forædler!$B$8,B29=Forædler!$A$9,Forædler!$B$9,B29=Forædler!$A$10,Forædler!$B$10)} -> Sejet | B29: =_xlfn.XLOOKUP(C29,Vinterhvede!C:C,Vinterhvede!B:B) -> 1479 7246 | C29: Heerup | D29: =_xlfn.XLOOKUP(C29,Vinterhvede!C:C,Vinterhvede!D:D) -> 67 | E29: =_xlfn.XLOOKUP(C29,Vinterhvede!C:C,Vinterhvede!E:E) -> 20201202 | G29: =SUM(F29*D29/100) -> 0
A30: {=_xlfn.IFS(B30=Forædler!$A$1,Forædler!$B$1,B30=Forædler!$A$2,Forædler!$B$2,B30=Forædler!$A$3,Forædler!$B$3,B30=Forædler!$A$4,Forædler!$B$4,B30=Forædler!$A$5,Forædler!$B$5,B30=Forædler!$A$6,Forædler!$B$6,B30=Forædler!$A$7,Forædler!$B$7,B30=Forædler!$A$8,Forædler!$B$8,B30=Forædler!$A$9,Forædler!$B$9,B30=Forædler!$A$10,Forædler!$B$10)} -> Sejet | B30: =_xlfn.XLOOKUP(C30,Vinterhvede!C:C,Vinterhvede!B:B) -> 1479 7246 | C30: Kvium | D30: =_xlfn.XLOOKUP(C30,Vinterhvede!C:C,Vinterhvede!D:D) -> 69 | E30: =_xlfn.XLOOKUP(C30,Vinterhvede!C:C,Vinterhvede!E:E) -> 20203202 | G30: =SUM(F30*D30/100) -> 0
A31: {=_xlfn.IFS(B31=Forædler!$A$1,Forædler!$B$1,B31=Forædler!$A$2,Forædler!$B$2,B31=Forædler!$A$3,Forædler!$B$3,B31=Forædler!$A$4,Forædler!$B$4,B31=Forædler!$A$5,Forædler!$B$5,B31=Forædler!$A$6,Forædler!$B$6,B31=Forædler!$A$7,Forædler!$B$7,B31=Forædler!$A$8,Forædler!$B$8,B31=Forædler!$A$9,Forædler!$B$9,B31=Forædler!$A$10,Forædler!$B$10)} -> Ragt | B31: =_xlfn.XLOOKUP(C31,Vinterhvede!C:C,Vinterhvede!B:B) -> 2963 5196 | C31: RGT Stokes | D31: =_xlfn.XLOOKUP(C31,Vinterhvede!C:C,Vinterhvede!D:D) -> 67 | E31: =_xlfn.XLOOKUP(C31,Vinterhvede!C:C,Vinterhvede!E:E) -> 45203202 | G31: =SUM(F31*D31/100) -> 0
C32: Sortsblanding nr. 3082
A33: {=_xlfn.IFS(B33=Forædler!$A$1,Forædler!$B$1,B33=Forædler!$A$2,Forædler!$B$2,B33=Forædler!$A$3,Forædler!$B$3,B33=Forædler!$A$4,Forædler!$B$4,B33=Forædler!$A$5,Forædler!$B$5,B33=Forædler!$A$6,Forædler!$B$6,B33=Forædler!$A$7,Forædler!$B$7,B33=Forædler!$A$8,Forædler!$B$8,B33=Forædler!$A$9,Forædler!$B$9,B33=Forædler!$A$10,Forædler!$B$10)} -> Sejet | B33: =_xlfn.XLOOKUP(C33,Vinterhvede!C:C,Vinterhvede!B:B) -> 1479 7246 | C33: Guinness | D33: =_xlfn.XLOOKUP(C33,Vinterhvede!C:C,Vinterhvede!D:D) -> 69 | E33: =_xlfn.XLOOKUP(C33,Vinterhvede!C:C,Vinterhvede!E:E) -> 20206202 | G33: =SUM(F33*D33/100) -> 0
A34: {=_xlfn.IFS(B34=Forædler!$A$1,Forædler!$B$1,B34=Forædler!$A$2,Forædler!$B$2,B34=Forædler!$A$3,Forædler!$B$3,B34=Forædler!$A$4,Forædler!$B$4,B34=Forædler!$A$5,Forædler!$B$5,B34=Forædler!$A$6,Forædler!$B$6,B34=Forædler!$A$7,Forædler!$B$7,B34=Forædler!$A$8,Forædler!$B$8,B34=Forædler!$A$9,Forædler!$B$9,B34=Forædler!$A$10,Forædler!$B$10)} -> Sejet | B34: =_xlfn.XLOOKUP(C34,Vinterhvede!C:C,Vinterhvede!B:B) -> 1479 7246 | C34: Heerup | D34: =_xlfn.XLOOKUP(C34,Vinterhvede!C:C,Vinterhvede!D:D) -> 67 | E34: =_xlfn.XLOOKUP(C34,Vinterhvede!C:C,Vinterhvede!E:E) -> 20201202 | G34: =SUM(F34*D34/100) -> 0
A35: {=_xlfn.IFS(B35=Forædler!$A$1,Forædler!$B$1,B35=Forædler!$A$2,Forædler!$B$2,B35=Forædler!$A$3,Forædler!$B$3,B35=Forædler!$A$4,Forædler!$B$4,B35=Forædler!$A$5,Forædler!$B$5,B35=Forædler!$A$6,Forædler!$B$6,B35=Forædler!$A$7,Forædler!$B$7,B35=Forædler!$A$8,Forædler!$B$8,B35=Forædler!$A$9,Forædler!$B$9,B35=Forædler!$A$10,Forædler!$B$10)} -> Ragt | B35: =_xlfn.XLOOKUP(C35,Vinterhvede!C:C,Vinterhvede!B:B) -> 2963 5196 | C35: RGT Stokes | D35: =_xlfn.XLOOKUP(C35,Vinterhvede!C:C,Vinterhvede!D:D) -> 67 | E35: =_xlfn.XLOOKUP(C35,Vinterhvede!C:C,Vinterhvede!E:E) -> 45203202 | G35: =SUM(F35*D35/100) -> 0
C36: Sortsblanding nr. 3090
A37: {=_xlfn.IFS(B37=Forædler!$A$1,Forædler!$B$1,B37=Forædler!$A$2,Forædler!$B$2,B37=Forædler!$A$3,Forædler!$B$3,B37=Forædler!$A$4,Forædler!$B$4,B37=Forædler!$A$5,Forædler!$B$5,B37=Forædler!$A$6,Forædler!$B$6,B37=Forædler!$A$7,Forædler!$B$7,B37=Forædler!$A$8,Forædler!$B$8,B37=Forædler!$A$9,Forædler!$B$9,B37=Forædler!$A$10,Forædler!$B$10)} -> Nordic seed | B37: =_xlfn.XLOOKUP(C37,Vinterhvede!C:C,Vinterhvede!B:B) -> 2722 9379 | C37: Kubik | D37: =_xlfn.XLOOKUP(C37,Vinterhvede!C:C,Vinterhvede!D:D) -> 68 | E37: =_xlfn.XLOOKUP(C37,Vinterhvede!C:C,Vinterhvede!E:E) -> 10204202 | G37: =SUM(F37*D37/100) -> 0
A38: {=_xlfn.IFS(B38=Forædler!$A$1,Forædler!$B$1,B38=Forædler!$A$2,Forædler!$B$2,B38=Forædler!$A$3,Forædler!$B$3,B38=Forædler!$A$4,Forædler!$B$4,B38=Forædler!$A$5,Forædler!$B$5,B38=Forædler!$A$6,Forædler!$B$6,B38=Forædler!$A$7,Forædler!$B$7,B38=Forædler!$A$8,Forædler!$B$8,B38=Forædler!$A$9,Forædler!$B$9,B38=Forædler!$A$10,Forædler!$B$10)} -> Nordic seed | B38: =_xlfn.XLOOKUP(C38,Vinterhvede!C:C,Vinterhvede!B:B) -> 2722 9379 | C38: Pacman | D38: =_xlfn.XLOOKUP(C38,Vinterhvede!C:C,Vinterhvede!D:D) -> 69 | E38: =_xlfn.XLOOKUP(C38,Vinterhvede!C:C,Vinterhvede!E:E) -> 10210202 | G38: =SUM(F38*D38/100) -> 0
A39: {=_xlfn.IFS(B39=Forædler!$A$1,Forædler!$B$1,B39=Forædler!$A$2,Forædler!$B$2,B39=Forædler!$A$3,Forædler!$B$3,B39=Forædler!$A$4,Forædler!$B$4,B39=Forædler!$A$5,Forædler!$B$5,B39=Forædler!$A$6,Forædler!$B$6,B39=Forædler!$A$7,Forædler!$B$7,B39=Forædler!$A$8,Forædler!$B$8,B39=Forædler!$A$9,Forædler!$B$9,B39=Forædler!$A$10,Forædler!$B$10)} -> Nordic seed | B39: =_xlfn.XLOOKUP(C39,Vinterhvede!C:C,Vinterhvede!B:B) -> 2722 9379 | C39: Pondus | D39: =_xlfn.XLOOKUP(C39,Vinterhvede!C:C,Vinterhvede!D:D) -> 68 | E39: =_xlfn.XLOOKUP(C39,Vinterhvede!C:C,Vinterhvede!E:E) -> 10206202 | G39: =SUM(F39*D39/100) -> 0
C40: Sortsblanding nr. 3095
A41: {=_xlfn.IFS(B41=Forædler!$A$1,Forædler!$B$1,B41=Forædler!$A$2,Forædler!$B$2,B41=Forædler!$A$3,Forædler!$B$3,B41=Forædler!$A$4,Forædler!$B$4,B41=Forædler!$A$5,Forædler!$B$5,B41=Forædler!$A$6,Forædler!$B$6,B41=Forædler!$A$7,Forædler!$B$7,B41=Forædler!$A$8,Forædler!$B$8,B41=Forædler!$A$9,Forædler!$B$9,B41=Forædler!$A$10,Forædler!$B$10)} -> DSV | B41: =_xlfn.XLOOKUP(C41,Vinterhvede!C:C,Vinterhvede!B:B) -> 3541 1399 | C41: Champion | D41: =_xlfn.XLOOKUP(C41,Vinterhvede!C:C,Vinterhvede!D:D) -> 69 | E41: =_xlfn.XLOOKUP(C41,Vinterhvede!C:C,Vinterhvede!E:E) -> 25200202 | G41: =SUM(F41*D41/100) -> 0
A42: {=_xlfn.IFS(B42=Forædler!$A$1,Forædler!$B$1,B42=Forædler!$A$2,Forædler!$B$2,B42=Forædler!$A$3,Forædler!$B$3,B42=Forædler!$A$4,Forædler!$B$4,B42=Forædler!$A$5,Forædler!$B$5,B42=Forædler!$A$6,Forædler!$B$6,B42=Forædler!$A$7,Forædler!$B$7,B42=Forædler!$A$8,Forædler!$B$8,B42=Forædler!$A$9,Forædler!$B$9,B42=Forædler!$A$10,Forædler!$B$10)} -> Sejet | B42: =_xlfn.XLOOKUP(C42,Vinterhvede!C:C,Vinterhvede!B:B) -> 1479 7246 | C42: Guinness | D42: =_xlfn.XLOOKUP(C42,Vinterhvede!C:C,Vinterhvede!D:D) -> 69 | E42: =_xlfn.XLOOKUP(C42,Vinterhvede!C:C,Vinterhvede!E:E) -> 20206202 | G42: =SUM(F42*D42/100) -> 0
...

Sheet Forædler
A1: 3071 0495 | B1: KWS
A2: 3964 0228 | B2: Limagrain
A3: 4552 0811 | B3: Hornsyld Købmandsgaard
A4: 2722 9379 | B4: Nordic seed
A5: 2963 5196 | B5: Ragt
A6: 3544 0488 | B6: Saaten Union
A7: 1479 7246 | B7: Sejet
A8: 2057 5778 | B8: Syngenta
A9: 2513 5490 | B9: Toft
A10: 3541 1399 | B10: DSV
A11: 3304 6995 | B11: Knold og top
